BEGIN:VCALENDAR
VERSION:2.0
PRODID:-//eventon.com NONSGML v1.0//EN
CALSCALE:GREGORIAN
METHOD:PUBLISH
BEGIN:VEVENT
UID:69eb686b081f3
DTSTAMP:20260424T125611Z
DTSTART:20261114
DTEND:20261115
LOCATION:
SUMMARY:Ski-Opening-Party am 14.11.2026
DESCRIPTION:Details folgen!\nhttps://skifreunde-waghaeusel.de/events/skibal
 l/
URL:https://skifreunde-waghaeusel.de/events/skiball/
END:VEVENT
END:VCALENDAR